BEGIN:VCALENDAR
VERSION:2.0
PRODID:-
CALSCALE:GREGORIAN
BEGIN:VEVENT
SUMMARY:Trippedelic - Ancient Secrets @Grenswerk
DTEND:20190210T050000Z
UID:10712
DTSTAMP:20260420T131402Z
LOCATION:
DESCRIPTION:Join us and enter the next chapter of your Psychedelic journey. Thousands of years have passed since civilization started. With secrets kept hidden from the outside world. Many of these secrets have been rediscovered by recent excavations. Yet there are still plenty left needed to be rediscovered.

Secrets of the mind. Perception. Thinking. Time.

Come and expand your consciousness and alter your state of mind in this overwhelming journey.
URL;VALUE=URI:https://www.grenswerk.nl/?p=10712
DTSTART:20190209T220000Z
END:VEVENT
END:VCALENDAR
