BEGIN:VCALENDAR
VERSION:2.0
PRODID:-
CALSCALE:GREGORIAN
BEGIN:VEVENT
SUMMARY:Kool & The Gang @Grenswerk
DTEND:20190905T230000Z
UID:11210
DTSTAMP:20260425T175613Z
LOCATION:De Doolhof\, Tegelen
DESCRIPTION:18:30 Deuren open
20:30 Kool &amp\; The Gang

Na afloop DJ Java

Let op: De Doolhof is overdekt. Je zult dus ten alle tijde droog staan tijdens het concert.

Kool &amp\; The Gang is een Amerikaans funk-instituut met ontelbare iconische nummers zoals Celebration\, Jungle Boogie\, Get Down On It\, Ladies Night en Summer Madness. Songs die bijna allemaal eeuwigheidswaarde kregen met de opkomst van de hiphop in de jaren negentig: de band uit New Jersey is een van de meest gesampelde acts ooit. De hip-hop explosie in de jaren negentig maakte van Kool &amp\; The Gang een echte dj-favoriet. Kool &amp\; The Gang’s drumbeats\, bas en – blazerslijnen vormen de basis voor hits van the Beastie Boys\, Jay-Z\, Madonna\, Janet Jackson\, Cypress Hill en P. Diddy. Hun muziek is ook prominent aanwezig op de soundtracks van films als Rocky\, Saturday Night Fever en Pulp Fiction.

Venloos eigen DJ JAVA zal na het concert van Kool &amp\; The Gang een funky set draaien in de Doolhof. Om die Kool &amp\; the Gang vibe nog even vast te houden natuurlijk... Voetjes van de vloer dus!
URL;VALUE=URI:https://www.grenswerk.nl/?p=11210
DTSTART:20190905T183000Z
END:VEVENT
END:VCALENDAR
