BEGIN:VCALENDAR
VERSION:2.0
PRODID:-
CALSCALE:GREGORIAN
BEGIN:VEVENT
SUMMARY:Shakatak @Grenswerk
DTEND:20190922T210000Z
UID:11320
DTSTAMP:20260425T174356Z
LOCATION:
DESCRIPTION:Na een aantal succesvolle top-twintig singles in het Verenigd Koninkrijk scoorde <strong>Shakatak</strong> ongekend internationaal succes met de release van de klassieker 'Nightbirds'. Dit succes werd herhaald met de hit 'Down on the Street 'en het debuutalbum ‘Drivin’ Hard' staat bij menig jazz en funk liefhebber in de platenkast. Bij Bill Sharpe\, Jill Saward\, Roger Odell en George Anderson spat het enthousiasme er dan ook nog altijd van af tijdens energieke concerten. De band heeft een grootse live reputatie en deze show in Grenswerk is dan ook dé kans om deze formatie live te zien!
URL;VALUE=URI:https://www.grenswerk.nl/?p=11320
DTSTART:20190922T183000Z
END:VEVENT
END:VCALENDAR
