BEGIN:VCALENDAR
VERSION:2.0
PRODID:-
CALSCALE:GREGORIAN
BEGIN:VEVENT
SUMMARY:Trijntje Zingt Vrienten met Vrienten @Grenswerk
DTEND:20230304T220000Z
UID:15528
DTSTAMP:20260422T062305Z
LOCATION:
DESCRIPTION:Met een album en een concerttour brengen Trijntje Oosterhuis en Xander Vrienten een eerbetoon aan componist\, zanger\, bassist\, gitarist en Doe Maar-legende Henny Vrienten. Te horen zijn bewerkingen van nummers van zijn drie laatste soloalbums.

Trijntje Oosterhuis en Henny Vrienten kennen elkaar sinds het begin van Trijntjes carrière en waren fan van elkaars werk. De oprechtheid en herkenbaarheid van de teksten van ‘Nederlands beste songwriter’ hebben op Trijntje een enorme aantrekkingskracht. Diverse keren werkten ze ook samen. Zo schreef Henny voor Trijntje onder meer de tekst van Vlieg met me mee en zong Trijntje op Henny’s zeventigste verjaardag zijn nummer Het gaat niet over.
URL;VALUE=URI:https://www.grenswerk.nl/?p=15528
DTSTART:20230304T193000Z
END:VEVENT
END:VCALENDAR
