BEGIN:VCALENDAR
VERSION:2.0
PRODID:-
CALSCALE:GREGORIAN
BEGIN:VEVENT
SUMMARY:Neet oét Lottum @Grenswerk
DTEND:20230714T210000Z
UID:16306
DTSTAMP:20260422T064236Z
LOCATION:
DESCRIPTION:Na een reeks stijf uitverkochte shows in Venlo en een aantal festivaloptredens\, eindigt de reünie van de Venlose band Neet oét Lottum na de eveneens uitverkochte show in de Amsterdamse poptempel Paradiso op 16 juli. Daarna stopt de band met optreden.
URL;VALUE=URI:https://www.grenswerk.nl/?p=16306
DTSTART:20230714T183000Z
END:VEVENT
END:VCALENDAR
