BEGIN:VCALENDAR
VERSION:2.0
PRODID:-
CALSCALE:GREGORIAN
BEGIN:VEVENT
SUMMARY:Palms 'N Paradise @Grenswerk
DTEND:20231007T020000Z
UID:16608
DTSTAMP:20260424T000047Z
LOCATION:
DESCRIPTION:Stap binnen in een betoverende wereld waar beats en paradijselijke vibes samenkomen. Palms 'N Paradise is dé ultieme clubnight die liefhebbers van elektronische muziek meeneemt op een reis naar het paradijs. Dit unieke evenement wordt georganiseerd door twee geliefde collectieven\, 'Club Hacienda' en 'Huisgenot'\, die hun passie en energie bundelen om een nacht te creëren die je nog lang zal bijblijven.

Deze clubnight is een eerbetoon aan de energie van de nacht en de vrijheid van expressie.
URL;VALUE=URI:https://www.grenswerk.nl/?p=16608
DTSTART:20231006T200000Z
END:VEVENT
END:VCALENDAR
