BEGIN:VCALENDAR
VERSION:2.0
PRODID:-
CALSCALE:GREGORIAN
BEGIN:VEVENT
SUMMARY:New Model Army @Grenswerk
DTEND:20251121T220000Z
UID:17337
DTSTAMP:20260420T141055Z
LOCATION:
DESCRIPTION:<em>Deze show is al geruime tijd uitverkocht\, maar bij onze vrienden van Muziekgieterij in Maastricht <a href="https://muziekgieterij.nl/event/new-model-army-2025-06-10/">zijn nog tickets</a>! </em>

<strong>Timetable</strong>
20:00 - 20:30: PREYRS
21:00 - 23:00 New Model Army

De Britse band New Model Army geven al decennia lang knallende concerten met politiek geladen poëtische nummers die geworteld zijn in folk\, punk\, rock en metal. De band is vernoemd naar het gelijknamige revolutionaire leger van Olivier Cromwell en heeft al een fanatieke trouwe fanschare sinds de jaren 80.

New Model Army's 16e studioalbum 'Unbroken' werd onlangs uitgebracht in januari 2024 en oogstte lof van critici en bereikte topposities in officiële albumlijsten over de hele wereld. Het is een enorm jaar voor de band wat betreft touren\, met data gedurende het hele jaar in het VK\, Europa en Latijns-Amerika.

 
URL;VALUE=URI:https://www.grenswerk.nl/?p=17337
DTSTART:20251121T193000Z
END:VEVENT
END:VCALENDAR
