BEGIN:VCALENDAR
VERSION:2.0
PRODID:-
CALSCALE:GREGORIAN
BEGIN:VEVENT
SUMMARY:King King @Grenswerk
DTEND:20260327T220000Z
UID:19276
DTSTAMP:20260421T092218Z
LOCATION:
DESCRIPTION:Bluesrockband King King brengt je krachtige gitaarpartijen\, soulvolle zang met de emotionele diepgang van traditionele blues en een energieke live-uitstraling die doet denken aan bands als Free\, Bad Company en Joe Bonamassa.

Het is muziek met roots\, gevoel én drive\, perfect voor liefhebbers van stevige\, eerlijke rock met een hart.
URL;VALUE=URI:https://www.grenswerk.nl/?p=19276
DTSTART:20260327T190000Z
END:VEVENT
END:VCALENDAR
