BEGIN:VCALENDAR
VERSION:2.0
PRODID:-
CALSCALE:GREGORIAN
BEGIN:VEVENT
SUMMARY:The Smiths Presumably @Grenswerk
DTEND:20260606T210000Z
UID:19366
DTSTAMP:20260421T194305Z
LOCATION:
DESCRIPTION:Geen andere tribute-band vertolkt het oeuvre van The Smiths en Morrissey zo indrukwekkend als The Smiths Presumably uit Antwerpen.

De band speelt de klassiekers van Morrissey en Marr uit de jaren 80 zoals This Charming Man\, Bigmouth Strikes Again\, Girlfriend In A Coma\, There Is A Light That Never Goes Out tot latere Morrissey-hits zoals Suedehead\, Everyday Is Like Sunday en First Of The Gang To Die.


URL;VALUE=URI:https://www.grenswerk.nl/?p=19366
DTSTART:20260606T183000Z
END:VEVENT
END:VCALENDAR
