BEGIN:VCALENDAR
VERSION:2.0
PRODID:-
CALSCALE:GREGORIAN
BEGIN:VEVENT
SUMMARY:Alien Ant Farm @Grenswerk
DTEND:20260805T210000Z
UID:19523
DTSTAMP:20260424T111921Z
LOCATION:
DESCRIPTION:De leden van Alien Ant Farm brachten in 1999 hun eerste plaat uit\, die ze voor het gemak maar meteen Greatest Hits noemden.

Het was echter 2002 - de hoogtijdagen van nu-metal - toen ze pas echt echt een hit scoorden met de ironische alt-metal cover van Michael Jackson’s Smooth Criminal en successen behaalden met nummers als ‘Movies’ en ‘Wish’.
URL;VALUE=URI:https://www.grenswerk.nl/?p=19523
DTSTART:20260805T180000Z
END:VEVENT
END:VCALENDAR
