BEGIN:VCALENDAR
VERSION:2.0
PRODID:-
CALSCALE:GREGORIAN
BEGIN:VEVENT
SUMMARY:KRS-ONE @Grenswerk
DTEND:20260717T210000Z
UID:19532
DTSTAMP:20260423T001000Z
LOCATION:
DESCRIPTION:Na decennia van culturele invloed en baanbrekende releases\, staat KRS-One – The Teacha\, de architect van Boom-Bap en een van de meest krachtige stemmen in Hip-Hop – op het punt om in 2026 aan een monumentale Europese tour van 40 steden te beginnen.

De My Philosophy Tour brengt rauwe\, authentieke Hip-Hop naar Frankrijk\, Duitsland\, Spanje\, Nederland\, Zwitserland\, Italien\, Scandinavië\, Oost-Europa en meer.
URL;VALUE=URI:https://www.grenswerk.nl/?p=19532
DTSTART:20260717T183000Z
END:VEVENT
END:VCALENDAR
