BEGIN:VCALENDAR
VERSION:2.0
PRODID:-
CALSCALE:GREGORIAN
BEGIN:VEVENT
SUMMARY:Sticks @Grenswerk
DTEND:20260320T220000Z
UID:19590
DTSTAMP:20260423T122708Z
LOCATION:
DESCRIPTION:Sticks brak door met de rapformatie Opgezwolle en is inmiddels een gevestigde naam binnen de Nederlandse hiphopscene. In 2024 zette hij samen met de Fakkelbrigade\, met onder anderen Rico en Typhoon\, de AFAS volledig op zijn kop. Sticks bracht het ene soloalbum na het andere uit en weet na 27 jaar in het vak nog altijd dezelfde passie en werkethiek voor hiphop te tonen. Zijn teksten worden gekenmerkt door ritmische flows en het vermogen om ieder woord te laten landen. Een echte verhalenverteller.

Na zijn optreden bij Zomerparkfeest voegt hij nu daad bij woord en komt hij terug naar Venlo!
URL;VALUE=URI:https://www.grenswerk.nl/?p=19590
DTSTART:20260320T190000Z
END:VEVENT
END:VCALENDAR
