BEGIN:VCALENDAR
VERSION:2.0
PRODID:-
CALSCALE:GREGORIAN
BEGIN:VEVENT
SUMMARY:Salsa Night @Grenswerk
DTEND:20260212T220000Z
UID:19652
DTSTAMP:20260422T083850Z
LOCATION:Café
DESCRIPTION:De heupen alvast warmdraaien voor Vastelaovend in Venlo? Tijdens onze Salsa Night draait DJ VenLatino de perfecte mix van salsa\, bachata\, merengue\, kizomba en reggaeton.

Programma:
18:00-20:00: Relaxte Latin achtergrondmuziek – perfect voor een drankje
20:00-23:00: Volume omhoog\, dansvloer open!
Extra: Spontane dansworkshops + twee ‘Latin Madness’ momenten van 30 minuten

✓ Gratis toegang
✓ Geen danservaring nodig
✓ Gezellige sfeer in het centrum

Iedereen is welkom! Of je nou danst of gewoon geniet van de Latin vibes – kom zoals je bent en laat je meeslepen door de vibes.
URL;VALUE=URI:https://www.grenswerk.nl/?p=19652
DTSTART:20260212T170000Z
END:VEVENT
END:VCALENDAR
