BEGIN:VCALENDAR
VERSION:2.0
PRODID:-
CALSCALE:GREGORIAN
BEGIN:VEVENT
SUMMARY:Score Jazz Orchestra @Grenswerk
DTEND:20260419T150000Z
UID:19680
DTSTAMP:20260420T121920Z
LOCATION:
DESCRIPTION:Ilja Reijngoud is een toonaangevende Nederlandse trombonist\, componist\, arrangeur en docent. Hij studeerde cum laude af aan het Hilversums Conservatorium en behaalde als tweede Nederlander een Master of Music in de Verenigde Staten. Reijngoud won diverse prestigieuze prijzen\, waaronder de Edison Jazz Award (2009).

Hij is vaste trombonist bij onder meer het Jazz Orchestra of the Concertgebouw en werkte mee aan meer dan 100 albums. Onder eigen naam bracht hij 17 albums en vijf boeken uit. Reijngoud componeert en arrangeert voor grote orkesten en bigbands\, is vaste arrangeur van Dennis van Aarssen en actief als docent en gastdocent aan diverse conservatoria wereldwijd.

<!-- notionvc: e410ee7e-1a52-467f-9724-aef8115b2f1f -->
URL;VALUE=URI:https://www.grenswerk.nl/?p=19680
DTSTART:20260419T130000Z
END:VEVENT
END:VCALENDAR
