BEGIN:VCALENDAR
VERSION:2.0
PRODID:-
CALSCALE:GREGORIAN
BEGIN:VEVENT
SUMMARY:TrapLab presents Limitless by Mr Cranes @Grenswerk
DTEND:20260329T010000Z
UID:19783
DTSTAMP:20260421T092810Z
LOCATION:Café
DESCRIPTION:We brengen het onvergetelijke gevoel van het optreden Mr Cranes: Limitless op Zomerparkfeest terug naar Grenswerk!

Traplab Radio en Mr Cranes slaan de handen ineen voor een energieke clubavond in het Grenswerk Café.

​Geïnspireerd door zijn show op het festival\, neemt Mr Cranes je mee op een muzikale reis van 22:00 tot 02:00. Verwacht een avond vol house\, UK garage en drum &amp\; bass. De perfecte mix om je grenzen te verleggen en volledig los te gaan.
URL;VALUE=URI:https://www.grenswerk.nl/?p=19783
DTSTART:20260328T210000Z
END:VEVENT
END:VCALENDAR
