BEGIN:VCALENDAR
VERSION:2.0
PRODID:-
CALSCALE:GREGORIAN
BEGIN:VEVENT
SUMMARY:(talking ‘bout) OUR GENERATIONS @Grenswerk
DTEND:20260521T210000Z
UID:19892
DTSTAMP:20260420T185908Z
LOCATION:
DESCRIPTION:(talking ‘bout) OUR GENERATIONS brengt verschillende muzikale generaties samen op één avond in Poppodium Grenswerk in Venlo.

Vier krachtige live-acts nemen je mee door post-punk\, hip-hop\, soulrock en psychedelische rock. Het evenement is ontstaan als eindexamenproject van studenten van vista college muzikant en laat zien hoe jong talent samen met lokale en regionale acts een avond vol energie\, rauwe live-muziek en verbinding met het publiek neerzet.
URL;VALUE=URI:https://www.grenswerk.nl/?p=19892
DTSTART:20260521T180000Z
END:VEVENT
END:VCALENDAR
