BEGIN:VCALENDAR
VERSION:2.0
PRODID:-
CALSCALE:GREGORIAN
BEGIN:VEVENT
SUMMARY:Kwante Hippe @Grenswerk
DTEND:20260503T150000Z
UID:19939
DTSTAMP:20260420T185958Z
LOCATION:Grenswerk Café
DESCRIPTION:Kwante Hippe maken op 3 mei van ons café voor een dag hun huiskamer waarmee ze in kleinere bezetting het podium zullen betreden. Kwante Hippe is een Venlose band die sinds het najaar van 2013 dialectmuziek maakt. Het begon met zanger Paul Breuer en drummer Mark Naus\, die het idee hadden om een band te vormen. Na verloop van tijd sloten respectievelijk saxofonist Lukas Geelen\, bassist Bram Rutten\, toetsenist Niels Winter\, trompettist Luuk Stroucken en Gitarist Paul Coppen aan.

Met optredens op evenementen zoals Vastelaovend en het Slagerzfeztival begon de band bekendheid te vergaren. Na de EP 'Greun Graas' ging het snel\, vooral nadat hun single 'D'n prins' op de radio werd opgepikt. Ze werkten mee aan diverse projecten zoals o.a. 'Venloos Blood'\, De Venlose Kerstterre (Kersmis in Venlo) en de Troubadours van de Toekomst.
URL;VALUE=URI:https://www.grenswerk.nl/?p=19939
DTSTART:20260503T133000Z
END:VEVENT
END:VCALENDAR
