BEGIN:VCALENDAR
VERSION:2.0
PRODID:-
CALSCALE:GREGORIAN
BEGIN:VEVENT
SUMMARY:The Awkward @Grenswerk
DTEND:20260522T204500Z
UID:19964
DTSTAMP:20260420T185953Z
LOCATION:Grenswerk Café
DESCRIPTION:The Awkward presenteert hun nieuwe album ‘What’s The Plan?’. Een indie-ode aan de sukkels die ook nog niet weten wat ze met hun leven aan het doen zijn.

Dus wat is het plan? Gooi begin jaren 2000-indie\, cheeky Britpop en de Teletubbies in een blender en je krijgt een kleurrijke avond vol catchy gitaren\, gimmicks waar je ‘u’ tegen zegt\, knallende energie en dansbare chaos. Van snerpende synth-solo’s en alto-disco beukers tot Franse ballads en haute couture bangers - muziek voor én door echte indie sukkels.
URL;VALUE=URI:https://www.grenswerk.nl/?p=19964
DTSTART:20260522T193000Z
END:VEVENT
END:VCALENDAR
