BEGIN:VCALENDAR
VERSION:2.0
PRODID:-
CALSCALE:GREGORIAN
BEGIN:VEVENT
SUMMARY:90's Guilty Pleasure Night @Grenswerk
DTEND:20260426T000000Z
UID:19989
DTSTAMP:20260420T190114Z
LOCATION:Grenswerk Café
DESCRIPTION:Zin in een avond die voelt als vroeger? Deze avond is één grote 90’s flashback\, terug naar de discotheektijd. Denk aan de vibe van de Maraboe (Sevenum)\, Steegh (Leunen)\, Time Out (Gemert) maar ook Venloose klassiekers als Walibi’s\, Gouden Tijger en alles daartussen.

Op deze avond neemt DJ 100% Chrizis je weer even helemaal terug in de tijd. Guilty pleasures en de dansvloer geopend voor wie durft!
URL;VALUE=URI:https://www.grenswerk.nl/?p=19989
DTSTART:20260425T200000Z
END:VEVENT
END:VCALENDAR
