BEGIN:VCALENDAR
VERSION:2.0
PRODID:-
CALSCALE:GREGORIAN
BEGIN:VEVENT
SUMMARY:Radio Decade @Grenswerk
DTEND:20260502T220000Z
UID:19991
DTSTAMP:20260422T192505Z
LOCATION:Grenswerk Café
DESCRIPTION:Radio Decade is een nieuwe\, energieke band in de regio Noord-Limburg. Het repertoire van de zeskoppige formatie focust zich op de jaren ’80\, en dan met name de (glam)rock en AOR (Album Oriented Rock) uit die periode. Denk daarbij enerzijds aan tijdloze knallers van Journey\, Toto of Queen\, maar anderzijds ook aan prachtige pareltjes van Heart\, Phil Collins en vele anderen. Radio Decade zorgt voor een gegarandeerde nostalgische trip terug naar de Gouden Tijd van de muziek!
URL;VALUE=URI:https://www.grenswerk.nl/?p=19991
DTSTART:20260501T203000Z
END:VEVENT
END:VCALENDAR
