BEGIN:VCALENDAR
VERSION:2.0
PRODID:-
CALSCALE:GREGORIAN
BEGIN:VEVENT
SUMMARY:Queer Speed Friending @Grenswerk
DTEND:20260507T193000Z
UID:20001
DTSTAMP:20260422T153928Z
LOCATION:Grenswerk Café
DESCRIPTION:Op donderdag 7 mei organiseert COC Venlo van 20:00 tot ±21:30 een gezellige queer speed friending bij Grenswerk Café. En daarna kun je natuurlijk lekker blijven hangen voor een 🍹 drankje.

💬 Wat is speed friending?
Een beetje zoals speeddaten\, maar dan om nieuwe vrienden te maken! Je schuift elke paar minuten door naar een nieuwe tafel. Op tafel liggen kaartjes om het gesprek makkelijk op gang te brengen.

🎉 Wat kun je verwachten?
* Een open en ontspannen sfeer
* Iedereen is welkom: introvert\, extrovert\, bi\, queer\, lesbisch\, gay\, ally 🌈

👉 Meedoen is helemaal gratis! Meld je wel even aan\, zodat we weten hoeveel plekken we nodig hebben. <a href="http://www.coclimburg.nl/speedfriending">www.coclimburg.nl/speedfriending</a>
⏳ Wacht niet te lang\, want vol = vol! Hopelijk zien we je daar! 💕
URL;VALUE=URI:https://www.grenswerk.nl/?p=20001
DTSTART:20260507T180000Z
END:VEVENT
END:VCALENDAR
