BEGIN:VCALENDAR
VERSION:2.0
PRODID:-
CALSCALE:GREGORIAN
BEGIN:VEVENT
SUMMARY:Jett Rebel @Grenswerk
DTEND:20261220T213000Z
UID:20002
DTSTAMP:20260423T143814Z
LOCATION:
DESCRIPTION:Jett Rebel komt eindelijk terug naar Venlo! De veelzijdige zanger\, songwriter en multi-instrumentalist Jett Rebel staat voor authenticiteit en intense live-energie. Zijn muziek vloeit moeiteloos over van funk en soul naar rock-'n-roll\, altijd gedreven door emotie en spontaniteit.
URL;VALUE=URI:https://www.grenswerk.nl/?p=20002
DTSTART:20261220T193000Z
END:VEVENT
END:VCALENDAR
