BEGIN:VCALENDAR
VERSION:2.0
PRODID:-
CALSCALE:GREGORIAN
BEGIN:VEVENT
SUMMARY:Kart Toernooi @Grenswerk
DTEND:20260430T203000Z
UID:20005
DTSTAMP:20260423T111750Z
LOCATION:Grenswerk Café
DESCRIPTION:t’s me……! Op donderdag 30 april organiseren we een kart toernooi in het café. Denk aan bananen op de baan\, schildpadpantsers die door de lucht vliegen en driften door de bochten.

We gooien de schermen aan en maken een vakkundig toernooi schema zodat we op het einde van de avond weten wie dé Kart winnaar is. Claim een ticket voor je startbewijs op de Rainbow Road en wie weet win jij deze keer onze Kart Toernooi Trofee. Op vertoon van je ticket krijg je in ons café een fris of biertje.
URL;VALUE=URI:https://www.grenswerk.nl/?p=20005
DTSTART:20260430T183000Z
END:VEVENT
END:VCALENDAR
