BEGIN:VCALENDAR
VERSION:2.0
PRODID:-
CALSCALE:GREGORIAN
BEGIN:VEVENT
SUMMARY:Balkan Party @Grenswerk
DTEND:20260522T000000Z
UID:20006
DTSTAMP:20260423T152137Z
LOCATION:Grenswerk Café
DESCRIPTION:It starts in the Balkans\, but the music doesn’t stop there. We’re taking you on a fast\, feel-good trip across borders and genres. Think Balkan brass and folk rhythms colliding with global club energy\, unexpected remixes\, and dancefloor-friendly beats from every corner of the map.

We’ve also got something extra we can’t quite reveal yet. But trust us: you definitely don’t want to miss this one! 🔥

🎧  Music by:
DJ KABO
DJ TIBI

📍  Grenswerk Café\, Venlo
🎫  €10 euro
💃  18+
URL;VALUE=URI:https://www.grenswerk.nl/?p=20006
DTSTART:20260521T190000Z
END:VEVENT
END:VCALENDAR
