BEGIN:VCALENDAR
VERSION:2.0
PRODID:-
CALSCALE:GREGORIAN
BEGIN:VEVENT
SUMMARY:Latin Night @Grenswerk
DTEND:20260515T230000Z
UID:20008
DTSTAMP:20260425T103516Z
LOCATION:Grenswerk Café
DESCRIPTION:Tijdens onze Latin Night draait DJ VenLatino een heerlijke mix van salsa\, bachata\, merengue\, kizomba en reggaeton. Of je nu wilt dansen of gewoon wilt genieten van de muziek en sfeer – alles mag\, niets moet.

Programma:
18:00–19:00: Relaxte Latin vibes – perfect om te eten\, drinken en bij te praten
19:00–01:00: Volume omhoog en de dansvloer open! Voel je vrij om te dansen\, maar ook om gewoon te genieten

Extra:
✨ Af en toe ontstaan er spontaan korte dansworkshops – leuk om mee te doen\, maar helemaal vrijblijvend
🔥 Twee ‘Latin Madness’ momenten van 30 minuten voor wie zin heeft in extra energie op de dansvloer

✓ Gratis toegang
✓ Geen danservaring nodig
✓ Ontspannen en gezellige sfeer in het centrum

Iedereen is welkom! Kom langs voor de muziek\, de sfeer en de gezelligheid – met of zonder dansmoves.
URL;VALUE=URI:https://www.grenswerk.nl/?p=20008
DTSTART:20260515T160000Z
END:VEVENT
END:VCALENDAR
