BEGIN:VCALENDAR
VERSION:2.0
PRODID:-
CALSCALE:GREGORIAN
BEGIN:VEVENT
SUMMARY:Dans Dans @Grenswerk
DTEND:20150422T230000Z
UID:2419
DTSTAMP:20260425T162245Z
LOCATION:Grenswerk - Bovenzaal
DESCRIPTION:Dans Dans herbergt de talenten van drie absolute topmuzikanten: Bert Dockx op gitaar (ook zanger en bezieler van Flying Horseman) Fred Lyenn op bas (beter bekend als Lyenn\, songsmid en gitarist) En Steven Cassiers op drums (o.a. ook bij Dez Mona).

Van garagejazz\, psychedelische blues en extatische noir soundtracks tot spacey rock-‘n-roll: de labels die Dans Dans opgekleefd krijgt zeggen alles over zijn eclectische aanpak.
URL;VALUE=URI:https://www.grenswerk.nl/?p=2419
DTSTART:20150422T183000Z
END:VEVENT
END:VCALENDAR
