BEGIN:VCALENDAR
VERSION:2.0
PRODID:-
CALSCALE:GREGORIAN
BEGIN:VEVENT
SUMMARY:Therapy? @Grenswerk
DTEND:20151115T010000Z
UID:3668
DTSTAMP:20260420T141426Z
LOCATION:Grenswerk - Zaal
DESCRIPTION:TIMETABLE

20.30 Sparrow Falls
21.30 Therapy?
23.00 Goe Vur In Den Otto (gratis afterparty!)

De Noord-Ierse rockband <strong>Therapy? </strong>bestaat inmiddels al ruim 25 jaar en heeft in die jaren nog niks aan intensiteit ingeleverd. Een optreden van Therapy? staat garant voor een potje stevige punkrock met een dosis metal.

De albums <em>Troublegum</em> en <em>Infernal Love</em> zorgden voor een doorbraak bij het grote publiek dat zich herkende in de compromisloze teksten over opgroeien\, angst\, liefde en de onderlinge relaties van deze drie. In 1995 scoorde Therapy? een hit met <em>Diane</em>\, een cover van de Amerikaanse post-punkband Hüsker Dü. In maart kwam het 14e album uit van Therapy?\, <em>Disquiet</em>.
URL;VALUE=URI:https://www.grenswerk.nl/?p=3668
DTSTART:20151114T193000Z
END:VEVENT
END:VCALENDAR
