BEGIN:VCALENDAR
VERSION:2.0
PRODID:-
CALSCALE:GREGORIAN
BEGIN:VEVENT
SUMMARY:RUIS Club Night <br> w/ Marcel Fengler (DE) @Grenswerk
DTEND:20170604T040000Z
UID:8221
DTSTAMP:20260420T111059Z
LOCATION:Grenswerk - Zaal
DESCRIPTION:RUIS Festival gaat helaas niet door op Greenport. Enkele boekingen waren echter te mooi om waar te zijn en daarom laten we die alsnog naar Venlo komen. In plaats van buiten in de wildernis gaan we dus een keiharde clubnacht doen in Grenswerk... Crème de la crème <strong>Marcel Fengler\, Mark Broom\, Sandrien\,</strong> <strong>JP Enfant en The Flexican</strong> komen alsnog naar Venlo op zaterdag 3 juni! Alle RUIS kaartkopers hebben een mail ontvangen hierover. Deze tickets blijven uiteraard gewoon geldig voor deze avond. De resterende kaarten voor deze avond zijn te krijgen via deze website.
URL;VALUE=URI:https://www.grenswerk.nl/?p=8221
DTSTART:20170603T200000Z
END:VEVENT
END:VCALENDAR
