BEGIN:VCALENDAR
VERSION:2.0
PRODID:-
CALSCALE:GREGORIAN
BEGIN:VEVENT
SUMMARY:[UITVERKOCHT] RGB Disco @Grenswerk
DTEND:20170909T020000Z
UID:8558
DTSTAMP:20260421T070223Z
LOCATION:Grenswerk - Zaal
DESCRIPTION:❤️?? NIEUWE EDITIE! ❤️??

Tijdens Zomerparkfeest heeft #Ventjeloco wederom laten zien dat ze meer dan RGB-waardig zijn. Daarom besloten we om samen met RGB Disco weer een nieuwe editie te organiseren! ?
URL;VALUE=URI:https://www.grenswerk.nl/?p=8558
DTSTART:20170908T210000Z
END:VEVENT
END:VCALENDAR
