BEGIN:VCALENDAR
VERSION:2.0
PRODID:-
CALSCALE:GREGORIAN
BEGIN:VEVENT
SUMMARY:Write Now! Bootcamp @Grenswerk
DTEND:20171125T160000Z
UID:8744
DTSTAMP:20260426T042331Z
LOCATION:
DESCRIPTION:Blok zaterdag 25 november voor een Bootcamp vol workshops\, inspiratie én concrete schrijftips.

Er zijn voordrachten\, schrijfworkshops\, speeddates met workshopdocenten en we eindigen met jouw eigen manifestatie: jouw beste zin in de spotlight. Kortom\, een hele dag die alleen maar om schrijven draait en jou met een hoofd vol inspiratie en een opschrijfboek vol mooie zinnen naar huis stuurt.
URL;VALUE=URI:https://www.grenswerk.nl/?p=8744
DTSTART:20171125T100000Z
END:VEVENT
END:VCALENDAR
