BEGIN:VCALENDAR
VERSION:2.0
PRODID:-
CALSCALE:GREGORIAN
BEGIN:VEVENT
SUMMARY:Claw Boys Claw @Grenswerk
DTEND:20181005T230000Z
UID:9883
DTSTAMP:20260421T031443Z
LOCATION:Grenswerk - Zaal
DESCRIPTION:20:30 Kitty Kitty Tuna
21:30 Claw Boys Claw

Claw Boys Claw maakt al jarenlang een afwisselende mix van rauwe\, vuige\, lyrische en psychedelische rock. De karakteristieke frontman Peter Te Bos en gitaarvirtuoos John Cameron vormen sinds 1983 de spil van de band. Frontman Peter te Bos is nog steeds de rebel uit de beginjaren. Samen met gitarist John Cameron vormt hij al ruim dertig jaar de kern van de band. In 2008 brachten ze hun veelgeprezen album ‘Pajama Day’ uit\, gevolgd door ‘Hammer’ in 2013.  In totaal brachten de Amsterdammers meer dan tien platen uit en eind februari werd daar het nieuwe album 'It's Not Me\, The Horse Is Not Me\, Part One' aan toegevoegd. Op het podium maken drummer Jeroen Kleijn en bassist Marcus Bruystens de bezetting compleet. Er zijn maar weinig Nederlandse bands die live met zoveel vuur spelen als Claw Boys Claw.
URL;VALUE=URI:https://www.grenswerk.nl/?p=9883
DTSTART:20181005T183000Z
END:VEVENT
END:VCALENDAR
