BEGIN:VCALENDAR
VERSION:2.0
PRODID:-
CALSCALE:GREGORIAN
BEGIN:VEVENT
SUMMARY:Jacin Trill @Grenswerk
DTEND:20181118T010000Z
UID:9928
DTSTAMP:20260422T031606Z
LOCATION:Grenswerk - Zaal
DESCRIPTION:20:00 Deuren open
20:30 808milli
21:15 Jiri11
21:50 Jacin Trill
22:50 BobbyFresh

<strong>Jacin Trill</strong> dropte vorig jaar zijn debuuttrack Kspreyopjebytch en kwam 2017 binnenstormen met zijn eerste mixtape <em>Happyland</em>. Sindsdien herkent iedereen zijn naam en sound uit duizenden. De rapper bracht onlangs Happyland 2.0 uit. Happyland 2.0 Tour is aan en zal Venlo niet overslaan!
URL;VALUE=URI:https://www.grenswerk.nl/?p=9928
DTSTART:20181117T193000Z
END:VEVENT
END:VCALENDAR
