BEGIN:VCALENDAR
VERSION:2.0
PRODID:-
CALSCALE:GREGORIAN
BEGIN:VEVENT
SUMMARY:De Kift @Grenswerk
DTEND:20180908T230000Z
UID:9960
DTSTAMP:20260425T225916Z
LOCATION:Grenswerk - Zaal
DESCRIPTION:20:00 Deuren open
21:00 De Kift

Op zaterdag 8 september speelt de Kift in Grenswerk. De veelkoppige poëtische fanfare-punkband bracht een ouderwets energiek album uit over het verstrijken van de tijd genaamd ‘Bal’. De Kift bracht sinds de oprichting in 1988 tien studioalbums uit. Het elfde album presenteert wederom een rijk arsenaal aan instrumenten\, dit keer uitgebreid met strijkers\, percussie\, sax en nog veel meer. De tomeloze energie en euforie wordt afgewogen met een danige dosis gecontroleerde chaos. Voor de Nederlandstalige liedteksten werd werk geput uit wereldliteratuur van onder andere\; Büchner\, Kerouac en Lucebert.
URL;VALUE=URI:https://www.grenswerk.nl/?p=9960
DTSTART:20180908T190000Z
END:VEVENT
END:VCALENDAR
